Workbook

Sheet DS ĐI KHO BẠC
A1: BỘ GIAO THÔNG VẬN TẢI | G1: CỘNG HÒA XÃ HỘI CHỦ NGHĨA VIỆT NAM
A2: HỌC VIỆN HÀNG KHÔNG VIỆT NAM | G2: Độc lập - Tự do - Hạnh phúc
A5: DANH SÁCH SINH VIÊN ĐƯỢC MIỄN GIẢM HỌC PHÍ NĂM HỌC 2022-2023
A6: ( Đính kèm quyết định số: /QĐ-HVHK ngày tháng 11 năm 2022)
A8: STT | B8: MÃ SSV | C8: Họ và tên | D8: Lớp đang học | E8: Ngày sinh | F8: Đối tượng | G8: học phí | H8: Mức hưởng | I8: Mức nhận tiền | J8: Ghi chú | K8: Ghi chú
A9: 1 | B9: 1951010274 | C9: Nguyễn Thị Thanh Thuý | D9: 19ĐHQTC2 | E9: 37160 | F9: Con bệnh binh | G9: 15274000 | H9: 1 | I9: =G9*H9 -> 15274000
A10: 2 | B10: 1951010011 | C10: Hoàng Diễm Quỳnh | D10: 19ĐHQTVT1 | E10: 37120 | F10: Con bệnh binh | G10: 10115000 | H10: 1 | I10: =G10*H10 -> 10115000
A11: 3 | B11: 1951010384 | C11: Nguyễn Đan Ngọc | D11: 19ĐHQTVT03 | E11: 36971 | F11: Con thương binh | G11: 11900000 | H11: 1 | I11: =G11*H11 -> 11900000
A12: 4 | B12: 2011150090 | C12: Nguyễn Thanh Lam | D12: 20CĐTM01 | E12: 37555 | F12: Con thương binh | G12: 7140000 | H12: 1 | I12: =G12*H12 -> 7140000
A13: 5 | B13: 2011150175 | C13: Trần Lê Thùy Dương | D13: 20CĐTM01 | E13: 37267 | F13: Con thương binh | G13: 6206700 | H13: 1 | I13: =G13*H13 -> 6206700
A14: 6 | B14: 2153410310 | C14: Phan Văn Như Quỳnh | D14: 21ĐHQT07 | E14: 37843 | F14: Con thương binh | G14: 9723000 | H14: 1 | I14: =G14*H14 -> 9723000 | J14: 0388461008; Thiếu giấy khai sinh
A15: 7 | B15: 2153410358 | C15: Nguyễn Huy Thiện | D15: 21ĐHQT08 | E15: 37711 | F15: Con thương binh | G15: 10326000 | H15: 1 | I15: =G15*H15 -> 10326000
A16: 8 | B16: 2105130004 | C16: Trần Lê Duy | D16: 21ĐHTĐ01 | E16: 37623 | F16: Con thương binh | G16: 10921000 | H16: 1 | I16: =G16*H16 -> 10921000
A17: 9 | B17: 2154810067 | C17: Vũ Nguyễn Minh Khuyến | D17: 21ĐHTT02 | E17: 37945 | F17: Con thương binh | G17: 10318000 | H17: 1 | I17: =G17*H17 -> 10318000
A18: 10 | B18: 2111010039 | C18: Mai Quốc Anh | D18: 21CĐAN01 | E18: 37707 | F18: Con thương binh | G18: 12110000 | H18: 1 | I18: =G18*H18 -> 12110000 | J18: Đã nộp HS online,Thiếu hồ sơ giấy
A19: 11 | B19: 2258130090 | C19: Nguyễn Thị Thảo Mai | D19: 22ĐHDL02 | E19: 38168 | F19: Con thương binh | G19: 16160000 | H19: 1 | I19: =G19*H19 -> 16160000
A20: 12 | B20: 2252210082 | C20: Nguyễn Vân Nhi | D20: 22ĐHNA02 | E20: 38250 | F20: Con thương binh | G20: 14100000 | H20: 1 | I20: =G20*H20 -> 14100000
A21: 13 | B21: 2254810089 | C21: Nguyễn Hoàng Trung Nguyên | D21: 22ĐHTT02 | E21: 38178 | F21: Con thương binh | G21: 14670000 | H21: 1 | I21: =G21*H21 -> 14670000
A22: 14 | B22: 2201150052 | C22: Bùi Thị Ngọc Yến | D22: 22CĐTM02 | E22: 38240 | F22: Con thương binh | G22: 14180000 | H22: 1 | I22: =G22*H22 -> 14180000
A23: 15 | B23: 2201150079 | C23: Trần Vũ Nhật Luân | D23: 22CĐTM02 | E23: 38081 | F23: Con thương binh | G23: 14180000 | H23: 1 | I23: =G23*H23 -> 14180000 | K23: Tiền mặt
A24: 16 | B24: 2254810228 | C24: Nguyễn Thị Thương | D24: 22ĐHTT05 | E24: 38304 | F24: Sinh viên khuyết tật | G24: 14670000 | H24: 1 | I24: =G24*H24 -> 14670000
A25: 17 | B25: 1951010120 | C25: Ngân Thị Lệ | D25: 19ĐHQTDL | E25: 36958 | F25: Dân tộc thiểu số thuộc hộ Cận Nghèo | G25: 8485000 | H25: 1 | I25: =G25*H25 -> 8485000
A26: 18 | B26: 1951010261 | C26: Điểu Thị Lý | D26: 19ĐHQTVT03 | E26: 36605 | F26: Dân tộc thiểu số thuộc hộ Cận Nghèo | G26: 8925000 | H26: 1 | I26: =G26*H26 -> 8925000 | J26: ngày 21/12/2021 nộp hs
A27: 19 | B27: 2051010296 | C27: Trần Thị Thúy Vy | D27: 20ĐHQT05 | E27: 37517 | F27: Dân tộc thiểu số thuộc hộ Cận Nghèo | G27: 9968000 | H27: 1 | I27: =G27*H27 -> 9968000
A28: 20 | B28: 2051010391 | C28: Ngô Thơm | D28: 20ĐHQTDL | E28: 37271 | F28: Dân tộc thiểu số thuộc hộ Cận Nghèo | G28: 12943000 | H28: 1 | I28: =G28*H28 -> 12943000
A29: 21 | B29: 2051010083 | C29: Vi Thị Thái | D29: 20ĐHQTVT01 | E29: 37611 | F29: Dân tộc thiểu số thuộc hộ Cận Nghèo | G29: 9520000 | H29: 1 | I29: =G29*H29 -> 9520000
A30: 22 | B30: 2253410355 | C30: Ksor H' Liên | D30: 22ĐHQT04 | E30: 37673 | F30: Dân tộc thiểu số thuộc hộ Cận Nghèo | G30: 14460000 | H30: 1 | I30: =G30*H30 -> 14460000
A31: 23 | B31: 2158420026 | C31: Lê Hoàng Mai | D31: 21ĐHKL01 | E31: 37779 | F31: Dân tộc thiểu số thuộc xã Khu vực 3 vùng dân tộc và miền núi | G31: 13160000 | H31: 0.7 | I31: =G31*H31 -> 9212000
A32: 24 | B32: 1953020039 | C32: Trần Tuấn Khôi | D32: 19ĐHĐT01 | E32: 37023 | F32: Con của người tai nạn lao động | G32: 10563000 | H32: 0.5 | I32: =G32*H32 -> 5281500
A33: 25 | B33: 1951010046 | C33: Phạm Phương Anh | D33: 19ĐHQTC01 | E33: 37002 | F33: Con của người tai nạn lao động | G33: 9520000 | H33: 0.5 | I33: =G33*H33 -> 4760000 | J33: Đã nộp HS online,Thiếu hồ sơ giấy
A34: 26 | B34: 2011210048 | C34: Nguyễn Xuân Lộc | D34: 20CĐKL01 | E34: 36559 | F34: Con của người tai nạn lao động | G34: 11900000 | H34: 0.5 | I34: =G34*H34 -> 5950000 | J34: Thiếu hồ sơ, không liên hệ được
A35: 27 | B35: 2153410218 | C35: Đỗ Khánh Linh | D35: 21ĐHQT05 | E35: 37847 | F35: Con của người tai nạn lao động | G35: 11361000 | H35: 0.5 | I35: =G35*H35 -> 5680500
A36: 28 | B36: 2258130089 | C36: Lê Thị Kim Nguyên | D36: 22ĐHDL02 | E36: 38347 | F36: Con của người tai nạn lao động | G36: 16160000 | H36: 0.5 | I36: =G36*H36 -> 8080000
A37: 29 | B37: 2252210002 | C37: Nguyễn Thu Hằng | D37: 22ĐHNA01 | E37: 38224 | F37: Con của người tai nạn lao động | G37: 14100000 | H37: 0.5 | I37: =G37*H37 -> 7050000
C38: Tổng cộng: | I38: =SUM(I9:I37) -> 302308700
C39: Số tiền bằng chữ: Ba trăm lẻ hai triệu ba trăm lẻ tám ngàn bảy trăm đồng./.
B41: TRƯỞNG PHÒNG | G41: GIÁM ĐỐC
B42: PHÒNG TS&CTSV
B48: Nguyễn Minh Tùng | H48: Nguyễn Thị Hải Hằng

Sheet TH HK1
A1: BỘ GIAO THÔNG VẬN TẢI | G1: CỘNG HÒA XÃ HỘI CHỦ NGHĨA VIỆT NAM
A2: HỌC VIỆN HÀNG KHÔNG VIỆT NAM | G2: Độc lập - Tự do - Hạnh phúc
A5: TỔNG HỢP ĐỀ NGHỊ CẤP BÙ TIỀN HỌC PHÍ MIỄN GIẢM
A6: HỌC KỲ 1 - NĂM HỌC 2022-2023
A8: STT | B8: MÃ SSV | C8: Họ và tên | D8: Lớp đang học | E8: Ngày sinh | F8: Đối tượng | G8: học phí | H8: Mức hưởng | I8: Mức nhận tiền | J8: Ghi chú | K8: Ghi chú
A9: 1 | B9: 1951010274 | C9: Nguyễn Thị Thanh Thuý | D9: 19ĐHQTC2 | E9: 37160 | F9: Con bệnh binh | G9: 15274000 | H9: 1 | I9: =G9*H9 -> 15274000
A10: 2 | B10: 1951010011 | C10: Hoàng Diễm Quỳnh | D10: 19ĐHQTVT1 | E10: 37120 | F10: Con bệnh binh | G10: 10115000 | H10: 1 | I10: =G10*H10 -> 10115000
A11: 3 | B11: 1951010384 | C11: Nguyễn Đan Ngọc | D11: 19ĐHQTVT03 | E11: 36971 | F11: Con thương binh | G11: 11900000 | H11: 1 | I11: =G11*H11 -> 11900000
A12: 4 | B12: 2011150090 | C12: Nguyễn Thanh Lam | D12: 20CĐTM01 | E12: 37555 | F12: Con thương binh | G12: 7140000 | H12: 1 | I12: =G12*H12 -> 7140000
A13: 5 | B13: 2011150175 | C13: Trần Lê Thùy Dương | D13: 20CĐTM01 | E13: 37267 | F13: Con thương binh | G13: 6206700 | H13: 1 | I13: =G13*H13 -> 6206700
A14: 6 | B14: 2153410310 | C14: Phan Văn Như Quỳnh | D14: 21ĐHQT07 | E14: 37843 | F14: Con thương binh | G14: 9723000 | H14: 1 | I14: =G14*H14 -> 9723000 | J14: 0388461008; Thiếu giấy khai sinh
A15: 7 | B15: 2153410358 | C15: Nguyễn Huy Thiện | D15: 21ĐHQT08 | E15: 37711 | F15: Con thương binh | G15: 10326000 | H15: 1 | I15: =G15*H15 -> 10326000
A16: 8 | B16: 2105130004 | C16: Trần Lê Duy | D16: 21ĐHTĐ01 | E16: 37623 | F16: Con thương binh | G16: 10921000 | H16: 1 | I16: =G16*H16 -> 10921000
A17: 9 | B17: 2154810067 | C17: Vũ Nguyễn Minh Khuyến | D17: 21ĐHTT02 | E17: 37945 | F17: Con thương binh | G17: 10318000 | H17: 1 | I17: =G17*H17 -> 10318000
A18: 10 | B18: 2111010039 | C18: Mai Quốc Anh | D18: 21CĐAN01 | E18: 37707 | F18: Con thương binh | G18: 12110000 | H18: 1 | I18: =G18*H18 -> 12110000 | J18: Đã nộp HS online,Thiếu hồ sơ giấy
A19: 11 | B19: 2258130090 | C19: Nguyễn Thị Thảo Mai | D19: 22ĐHDL02 | E19: 38168 | F19: Con thương binh | G19: 16160000 | H19: 1 | I19: =G19*H19 -> 16160000
A20: 12 | B20: 2252210082 | C20: Nguyễn Vân Nhi | D20: 22ĐHNA02 | E20: 38250 | F20: Con thương binh | G20: 14100000 | H20: 1 | I20: =G20*H20 -> 14100000
A21: 13 | B21: 2254810089 | C21: Nguyễn Hoàng Trung Nguyên | D21: 22ĐHTT02 | E21: 38178 | F21: Con thương binh | G21: 14670000 | H21: 1 | I21: =G21*H21 -> 14670000
A22: 14 | B22: 2201150052 | C22: Bùi Thị Ngọc Yến | D22: 22CĐTM02 | E22: 38240 | F22: Con thương binh | G22: 14180000 | H22: 1 | I22: =G22*H22 -> 14180000
A23: 15 | B23: 2201150079 | C23: Trần Vũ Nhật Luân | D23: 22CĐTM02 | E23: 38081 | F23: Con thương binh | G23: 14180000 | H23: 1 | I23: =G23*H23 -> 14180000
A24: 16 | B24: 2254810228 | C24: Nguyễn Thị Thương | D24: 22ĐHTT05 | E24: 38304 | F24: Sinh viên khuyết tật | G24: 14670000 | H24: 1 | I24: =G24*H24 -> 14670000
A25: 17 | B25: 1951010120 | C25: Ngân Thị Lệ | D25: 19ĐHQTDL | E25: 36958 | F25: Dân tộc thiểu số thuộc hộ Cận Nghèo | G25: 8485000 | H25: 1 | I25: =G25*H25 -> 8485000
A26: 18 | B26: 1951010261 | C26: Điểu Thị Lý | D26: 19ĐHQTVT03 | E26: 36605 | F26: Dân tộc thiểu số thuộc hộ Cận Nghèo | G26: 8925000 | H26: 1 | I26: =G26*H26 -> 8925000 | J26: ngày 21/12/2021 nộp hs
A27: 19 | B27: 2051010296 | C27: Trần Thị Thúy Vy | D27: 20ĐHQT05 | E27: 37517 | F27: Dân tộc thiểu số thuộc hộ Cận Nghèo | G27: 9968000 | H27: 1 | I27: =G27*H27 -> 9968000
A28: 20 | B28: 2051010391 | C28: Ngô Thơm | D28: 20ĐHQTDL | E28: 37271 | F28: Dân tộc thiểu số thuộc hộ Cận Nghèo | G28: 12943000 | H28: 1 | I28: =G28*H28 -> 12943000
A29: 21 | B29: 2051010083 | C29: Vi Thị Thái | D29: 20ĐHQTVT01 | E29: 37611 | F29: Dân tộc thiểu số thuộc hộ Cận Nghèo | G29: 9520000 | H29: 1 | I29: =G29*H29 -> 9520000
A30: 22 | B30: 2253410355 | C30: Ksor H' Liên | D30: 22ĐHQT04 | E30: 37673 | F30: Dân tộc thiểu số thuộc hộ Cận Nghèo | G30: 14460000 | H30: 1 | I30: =G30*H30 -> 14460000
A31: 23 | B31: 2158420026 | C31: Lê Hoàng Mai | D31: 21ĐHKL01 | E31: 37779 | F31: Dân tộc thiểu số thuộc xã Khu vực 3 vùng dân tộc và miền núi | G31: 13160000 | H31: 0.7 | I31: =G31*H31 -> 9212000
A32: 24 | B32: 1953020039 | C32: Trần Tuấn Khôi | D32: 19ĐHĐT01 | E32: 37023 | F32: Con của người tai nạn lao động | G32: 10563000 | H32: 0.5 | I32: =G32*H32 -> 5281500
A33: 25 | B33: 1951010046 | C33: Phạm Phương Anh | D33: 19ĐHQTC01 | E33: 37002 | F33: Con của người tai nạn lao động | G33: 9520000 | H33: 0.5 | I33: =G33*H33 -> 4760000 | J33: Đã nộp HS online,Thiếu hồ sơ giấy
A34: 26 | B34: 2011210048 | C34: Nguyễn Xuân Lộc | D34: 20CĐKL01 | E34: 36559 | F34: Con của người tai nạn lao động | G34: 11900000 | H34: 0.5 | I34: =G34*H34 -> 5950000 | J34: Thiếu hồ sơ, không liên hệ được
A35: 27 | B35: 2153410218 | C35: Đỗ Khánh Linh | D35: 21ĐHQT05 | E35: 37847 | F35: Con của người tai nạn lao động | G35: 11361000 | H35: 0.5 | I35: =G35*H35 -> 5680500
A36: 28 | B36: 2258130089 | C36: Lê Thị Kim Nguyên | D36: 22ĐHDL02 | E36: 38347 | F36: Con của người tai nạn lao động | G36: 16160000 | H36: 0.5 | I36: =G36*H36 -> 8080000
A37: 29 | B37: 2252210002 | C37: Nguyễn Thu Hằng | D37: 22ĐHNA01 | E37: 38224 | F37: Con của người tai nạn lao động | G37: 14100000 | H37: 0.5 | I37: =G37*H37 -> 7050000
C38: Tổng cộng: | I38: =SUM(I9:I37) -> 302308700
C39: Số tiền bằng chữ: Ba trăm không hai triệu ba trăm lẻ tám ngàn bảy trăm đồng./.
G41: TP. Hồ Chí Minh, ngày tháng 11 năm 2022
B42: TRƯỞNG PHÒNG | E42: TRƯỞNG PHÒNG | G42: GIÁM ĐỐC
B43: PHÒNG TS&CTSV | E43: KẾ HOẠCH TÀI CHÍNH
B49: Nguyễn Minh Tùng | E49: Nguyễn Thị Anh Thy | H49: Nguyễn Thị Hải Hằng

Sheet DS tiền mặt
A1: BỘ GIAO THÔNG VẬN TẢI | G1: CỘNG HÒA XÃ HỘI CHỦ NGHĨA VIỆT NAM
A2: HỌC VIỆN HÀNG KHÔNG VIỆT NAM | G2: Độc lập - Tự do - Hạnh phúc
A5: DANH SÁCH SINH VIÊN NHẬN TIỀN MIỄN GIẢM HỌC PHÍ
A6: HỌC KỲ 1 - NĂM HỌC 2022-2023 ( Tiền mặt)
A8: STT | B8: MÃ SSV | C8: Họ và tên | D8: Lớp đang học | E8: Ngày sinh | F8: Đối tượng | G8: học phí | H8: Mức hưởng | I8: Mức nhận tiền | J8: Ghi chú | K8: Ghi chú
A9: 1 | B9: 2201150079 | C9: Trần Vũ Nhật Luân | D9: 22CĐTM02 | E9: 38081 | F9: Con thương binh | G9: 14180000 | H9: 1 | I9: =G9*H9 -> 14180000 | K9: tiền mặt
C10: Tổng cộng: | I10: =SUM(I9:I9) -> 14180000
C11: Số tiền bằng chữ: Hai trăm chín mươi sáu triệu sáu trăm hai mươi tám ngàn hai trăm đồng./.
G13: TP. Hồ Chí Minh, ngày tháng 11 năm 2022
B14: TRƯỞNG PHÒNG | E14: TRƯỞNG PHÒNG | G14: GIÁM ĐỐC
B15: PHÒNG TS&CTSV | E15: KẾ HOẠCH TÀI CHÍNH
B21: Nguyễn Minh Tùng | E21: Nguyễn Thị Anh Thy | H21: Nguyễn Thị Hải Hằng

Sheet Sheet2
A1: Dấu thời gian | B1: Địa chỉ email | C1: Mã SSV | D1: Họ và tên | E1: Ngày tháng năm sinh | F1: Số tài khoản ngân hàng | G1: CMND/CCCD | H1: TÊN NGÂN HÀNG (viết tắt) | I1: TÊN CHI NHÁNH NGÂN HÀNG | J1: SỐ ĐIỆN THOẠI LIÊN HỆ
A2: 44873.399 | B2: quynhhquynhh1708@gmail.com | C2: 1951010011 | D2: Hoàng Diễm Quỳnh | E2: 37120 | G2: 079301000380 | H2: Vietinbank | I2: Chi nhánh 7 TP.HCM | J2: 0353064239
A3: 44873.454 | B3: 1951010274@vaa.edu.vn | C3: 1951010274 | D3: Nguyễn Thị Thanh Thuý | E3: 37160 | F3: 106872171706 | G3: 074301004488 | H3: Vietinbank | I3: Tân Bình | J3: 0397889087
A4: 44873.469 | B4: nguyenngochueminh1203@gmail.com | C4: 2153410393 | D4: Nguyễn Ngọc Huệ Minh | E4: 37692 | G4: 272968009 | H4: MB bank | I4: Chi nhánh Xuân Lộc | J4: 0916545837
A5: 44873.511 | B5: 2111010039@vaa.edu.vn | C5: 2111010039 | D5: Mai Quốc Anh | E5: 37707 | G5: 075203002846 | H5: ACB bank | I5: Ngân hàng TMCP Á Châu - PGD Long Bình Tân | J5: 0329483288
A6: 44873.534 | B6: 2051010083@vaa.edu.vn | C6: 2051010083 | D6: Vi Thị Thái | E6: 37611 | G6: 241886539 | H6: VietinBank | I6: Chi nhánh Tân Bình | J6: 0332930258
A7: 44873.55 | B7: 2153410358@vaa.edu.vn | C7: 2153410358 | D7: Nguyễn Huy Thiện | E7: 37711 | F7: 0501 2752 6661 | H7: Sacombank | I7: Sacombank chi nhánh Bình Thuận | J7: 0328626061
A8: 44873.563 | B8: 2051200071@vaa.edu.vn | C8: 2051200071 | D8: Nguyễn Lê Đức Thắng | E8: 37582 | G8: 2051200071 | H8: Vietinbank | I8: 20 Cộng Hoà - Phường 4 - Quận Tân Bình - Thành phố Hồ Chí Minh | J8: 0945129072
A9: 44873.573 | B9: thuonghint@gmai.com | C9: 2254810228 | D9: Nguyễn Thị Thương | E9: 38304 | F9: 0355540498 | G9: 033304013049 | H9: MB bank | I9: Chi nhánh Hồ Chí Minh | J9: 0355540498
A10: 44873.615 | B10: 2051010259@vaa.edu.vn | C10: 2051010259 | D10: Đỗ Thị Kim Yến | E10: 37305 | G10: 049302011817 | H10: Vietcombank | I10: Quảng Nam | J10: 0336202174
A11: 44873.621 | B11: phanhuquynh5108@gmail.com | C11: 2153410310 | D11: Phan Văn Như Quỳnh | E11: 37843 | G11: 225938579 | H11: Vietcombank | I11: Chi nhánh khánh hoà | J11: 0388461008
A12: 44873.656 | B12: 2051010259@vaa.edu.vn | C12: 2051010259 | D12: Đỗ Thị Kim Yến | E12: 37305 | F12: 1014382285 | G12: 049302011817 | H12: Vietcombank | I12: Quảng Nam | J12: 0336202174
A13: 44873.676 | B13: phanhuquynh5108@gmail.com | C13: 2153410310 | D13: Phan Văn Như Quỳnh | E13: 37843 | F13: 1016364536 | G13: 225938579 | H13: Vietcombank | I13: chi nhánh khánh hoà | J13: 0388461008
A14: 44873.748 | B14: 2154810067@vaa.edu.vn | C14: 2154810067 | D14: Vũ Nguyễn Minh Khuyến | E14: 37945 | F14: 0989469951 | G14: 064203000261 | H14: MB Bank | I14: Ngân hàng Quân Đội MBBank Phòng giao dịch Chư Sê | J14: 0989469951
A15: 44873.987 | B15: ntiendat1113@gmail.com | C15: 2254810069 | D15: Nguyễn Tiến Đạt | E15: 38304 | F15: 19038904290015 | G15: 035204000229 | H15: Techcombank | I15: Teachcombank | J15: 0395046735
A16: 44873.989 | B16: xuanloc170719@gmail.com | C16: 2011210048 | D16: Nguyễn Xuân Lộc | E16: 36559 | F16: 31410003663773 | G16: 276098406 | H16: BIDV | I16: Chi nhánh Đông Sài Gòn | J16: 0354524732
A17: 44873.99 | B17: lienksor210@gmail.com | C17: 2253410355 | D17: Ksor H' Liên | E17: 37673 | F17: 5023205197289 | G17: 064303001867 | H17: AGRIBANK | I17: Ngân hàng nông nghiệp và phát triển nông thôn việt nam chi nhánh gia lai | J17: 0862492885
A18: 44874.417 | B18: 2158420026@vaa.edu.vn | C18: 2158420026 | D18: Lê Hoàng Mai | E18: 37779 | F18: 0842197297 | G18: 066303010188 | H18: MB Bank | I18: MB Đăk Lăk | J18: 0842197297
A19: 44874.46 | B19: vannhinguyen21@gmail.com | C19: 2252210082 | D19: Nguyễn Vân Nhi | E19: 38250 | F19: 2109205202330 | G19: 031304001937 | H19: AGRIBANK | I19: Chi nhánh Huyện Kiến Thuỵ Hải Phòng | J19: 0967573948
A20: 44874.527 | B20: hangduyen2526@gmail.com | C20: 2252210002 | D20: Nguyễn Thu Hằng | E20: 38224 | F20: 200408259999 | G20: 031304009707 | H20: MB Bank | I20: MB Bank | J20: 0904275317
A21: 44874.842 | B21: thuonghint@gmail.com | C21: 2254810228 | D21: Nguyễn Thị Thương | E21: 38304 | F21: 0355540498 | G21: 033304013049 | H21: MB Bank | I21: Chi nhánh Hồ Chí Minh | J21: 0355540498
A22: 44874.981 | B22: hoangemdv089@gmail.com | C22: 2105130004 | D22: Trần Lê Duy | E22: 37623 | F22: 0399206216 | G22: 083203011558 | H22: MB Bank | I22: Chi Nhánh Bến Tre | J22: 0399206216
A23: 44875.54 | B23: 2051010391@vaa.edu.vn | C23: 2051010391 | D23: Ngô Thơm | E23: 37271 | F23: 101872382516 | G23: 094202007792 | H23: Vietinbank | I23: 20 Đ. Cộng Hòa, Phường 4, Tân Bình, Thành phố Hồ Chí Minh, Việt Nam | J23: 0342821501
A24: 44875.844 | B24: trungnguyensd112@gmail.com | C24: 2254810089 | D24: Nguyễn Hoàng Trung Nguyên | E24: 38178 | F24: 100877328179 | G24: 079204004802 | H24: VietinBank | I24: VietinBank chi nhánh 12 - PGD Lê Thị Riêng | J24: 0988073818
A25: 44876.526 | B25: 2153410358@vaa.edu.vn | C25: 2153410358 | D25: Nguyễn Huy Thiện | E25: 37711 | F25: 0501 2752 6661 | G25: 261629629 | H25: Sacombank | I25: Sacombank chi nhánh Bình Thuận | J25: 0328626061
A26: 44876.956 | B26: nhinhit2304@gmail.com | C26: 2258130049 | D26: Trương Lý Bảo Nhi | E26: 38161 | F26: 0908433687 | G26: 079304005456 | H26: MB bank | I26: Bình Thạnh | J26: 0908433687
A27: 44877.433 | B27: 1951010274@vaa.edu.vn | C27: 1951010274 | D27: Nguyễn Thị Thanh Thuý | E27: 37160 | F27: 106872171706 | G27: 074301004488 | H27: Vietinbank | I27: Tân Bình | J27: 0397889087
A28: 44878.401 | B28: hangduyen2526@gmail.com | C28: 2252210002 | D28: Nguyễn Thu Hằng | E28: 38224 | F28: 200408259999 | G28: 031304009707 | H28: MB Bank | I28: MB bank | J28: 0904275317
A29: 44878.634 | B29: 2051010083@vaa.edu.vn | C29: 2051010083 | D29: Vi Thị Thái | E29: 37611 | F29: 105872873115 | G29: 241886539 | H29: VietinBank | I29: Chi nhánh Tân Bình | J29: 0332930258
A30: 44878.707 | B30: 1951010046@vaa.edu.vn | C30: 1951010046 | D30: Phạm Phương Anh | E30: 37002 | F30: 0121000893939 | G30: 075301020179 | H30: Vietcombank | I30: Vietcombank chi nhánh Đồng Nai | J30: 0939509068
A31: 44878.952 | B31: 2153410218@vaa.edu.vn | C31: 2153410218 | D31: Đỗ Khánh Linh | E31: 37847 | F31: 2005206271561 | G31: 048303008079 | H31: Agribank | I31: Cam Le - Da Nang | J31: 0967583234
A32: 44879.424 | B32: hnauht.7113@gmail.com | C32: 2153410211 | D32: Đặng Lê Anh Thư | E32: 37932 | F32: 19037922210014 | G32: 051303009896 | H32: Techcombank | I32: Chi nhánh Quang Trung Gò Vấp | J32: 0934600752
A33: 44879.427 | B33: 2153410220@vaa.edu.vn | C33: 2153410220 | D33: Nông Đặng Nhật Thu | E33: 8/31/0003 | F33: 6655310803 | G33: 006303002554 | H33: MB Bank | I33: Chi nhánh TP Hồ Chí Minh | J33: 0334872337

Sheet DS Tiền ck
A1: BỘ GIAO THÔNG VẬN TẢI | G1: CỘNG HÒA XÃ HỘI CHỦ NGHĨA VIỆT NAM
A2: HỌC VIỆN HÀNG KHÔNG VIỆT NAM | G2: Độc lập - Tự do - Hạnh phúc
A5: DANH SÁCH SINH VIÊN ĐƯỢC MIỄN GIẢM HỌC PHÍ THEO DIỆN CHÍNH SÁCH NHÀ NƯỚC
A6: HỌC KỲ I - NĂM HỌC 2022-2023 (chuyển khoản)
A8: STT | B8: MÃ SSV | C8: Họ và tên | D8: Lớp đang học | E8: Ngày sinh | F8: Đối tượng | G8: học phí | H8: Mức hưởng | I8: Mức nhận tiền | J8: Ghi chú | K8: CMND/CCCD | L8: SỐ TK NGÂN HÀNG | M8: CHI NHÁNH NGÂN HÀNG | N8: SĐT LIÊN HỆ
A9: 1 | B9: 1951010274 | C9: Nguyễn Thị Thanh Thuý | D9: 19ĐHQTC2 | E9: 37160 | F9: Con bệnh binh | G9: 15274000 | H9: 1 | I9: =G9*H9 -> 15274000 | K9: =VLOOKUP(B9,Sheet2!$C$2:$J$33,4,0) -> 106872171706 | L9: =VLOOKUP(B9,Sheet2!$C$2:$J$33,5,0) -> 074301004488 | M9: =VLOOKUP(B9,Sheet2!$C$2:$J$33,7,0) -> Tân Bình | N9: =VLOOKUP(B9,Sheet2!$C$2:$J$33,8,0) -> 0397889087
A10: 2 | B10: 1951010011 | C10: Hoàng Diễm Quỳnh | D10: 19ĐHQTVT1 | E10: 37120 | F10: Con bệnh binh | G10: 10115000 | H10: 1 | I10: =G10*H10 -> 10115000 | K10: =VLOOKUP(B10,Sheet2!$C$2:$J$33,4,0) -> 0 | L10: =VLOOKUP(B10,Sheet2!$C$2:$J$33,5,0) -> 079301000380 | M10: =VLOOKUP(B10,Sheet2!$C$2:$J$33,7,0) -> Chi nhánh 7 TP.HCM | N10: =VLOOKUP(B10,Sheet2!$C$2:$J$33,8,0) -> 0353064239
A11: 3 | B11: 1951010384 | C11: Nguyễn Đan Ngọc | D11: 19ĐHQTVT03 | E11: 36971 | F11: Con thương binh | G11: 11900000 | H11: 1 | I11: =G11*H11 -> 11900000 | K11: =VLOOKUP(B11,Sheet2!$C$2:$J$33,4,0) -> #N/A | L11: =VLOOKUP(B11,Sheet2!$C$2:$J$33,5,0) -> #N/A | M11: =VLOOKUP(B11,Sheet2!$C$2:$J$33,7,0) -> #N/A | N11: =VLOOKUP(B11,Sheet2!$C$2:$J$33,8,0) -> #N/A
A12: 4 | B12: 2011150090 | C12: Nguyễn Thanh Lam | D12: 20CĐTM01 | E12: 37555 | F12: Con thương binh | G12: 7140000 | H12: 1 | I12: =G12*H12 -> 7140000 | K12: =VLOOKUP(B12,Sheet2!$C$2:$J$33,4,0) -> #N/A | L12: =VLOOKUP(B12,Sheet2!$C$2:$J$33,5,0) -> #N/A | M12: =VLOOKUP(B12,Sheet2!$C$2:$J$33,7,0) -> #N/A | N12: =VLOOKUP(B12,Sheet2!$C$2:$J$33,8,0) -> #N/A
A13: 5 | B13: 2011150175 | C13: Trần Lê Thùy Dương | D13: 20CĐTM01 | E13: 37267 | F13: Con thương binh | G13: 6206700 | H13: 1 | I13: =G13*H13 -> 6206700 | K13: =VLOOKUP(B13,Sheet2!$C$2:$J$33,4,0) -> #N/A | L13: =VLOOKUP(B13,Sheet2!$C$2:$J$33,5,0) -> #N/A | M13: =VLOOKUP(B13,Sheet2!$C$2:$J$33,7,0) -> #N/A | N13: =VLOOKUP(B13,Sheet2!$C$2:$J$33,8,0) -> #N/A
A14: 6 | B14: 2153410310 | C14: Phan Văn Như Quỳnh | D14: 21ĐHQT07 | E14: 37843 | F14: Con thương binh | G14: 9723000 | H14: 1 | I14: =G14*H14 -> 9723000 | J14: 0388461008; Thiếu giấy khai sinh | K14: =VLOOKUP(B14,Sheet2!$C$2:$J$33,4,0) -> 0 | L14: =VLOOKUP(B14,Sheet2!$C$2:$J$33,5,0) -> 225938579 | M14: =VLOOKUP(B14,Sheet2!$C$2:$J$33,7,0) -> Chi nhánh khánh hoà | N14: =VLOOKUP(B14,Sheet2!$C$2:$J$33,8,0) -> 0388461008
A15: 7 | B15: 2153410358 | C15: Nguyễn Huy Thiện | D15: 21ĐHQT08 | E15: 37711 | F15: Con thương binh | G15: 10326000 | H15: 1 | I15: =G15*H15 -> 10326000 | K15: =VLOOKUP(B15,Sheet2!$C$2:$J$33,4,0) -> 0501 2752 6661 | L15: =VLOOKUP(B15,Sheet2!$C$2:$J$33,5,0) -> 0 | M15: =VLOOKUP(B15,Sheet2!$C$2:$J$33,7,0) -> Sacombank chi nhánh Bình Thuận | N15: =VLOOKUP(B15,Sheet2!$C$2:$J$33,8,0) -> 0328626061
A16: 8 | B16: 2105130004 | C16: Trần Lê Duy | D16: 21ĐHTĐ01 | E16: 37623 | F16: Con thương binh | G16: 10921000 | H16: 1 | I16: =G16*H16 -> 10921000 | K16: =VLOOKUP(B16,Sheet2!$C$2:$J$33,4,0) -> 0399206216 | L16: =VLOOKUP(B16,Sheet2!$C$2:$J$33,5,0) -> 083203011558 | M16: =VLOOKUP(B16,Sheet2!$C$2:$J$33,7,0) -> Chi Nhánh Bến Tre | N16: =VLOOKUP(B16,Sheet2!$C$2:$J$33,8,0) -> 0399206216
A17: 9 | B17: 2154810067 | C17: Vũ Nguyễn Minh Khuyến | D17: 21ĐHTT02 | E17: 37945 | F17: Con thương binh | G17: 10318000 | H17: 1 | I17: =G17*H17 -> 10318000 | K17: =VLOOKUP(B17,Sheet2!$C$2:$J$33,4,0) -> 0989469951 | L17: =VLOOKUP(B17,Sheet2!$C$2:$J$33,5,0) -> 064203000261 | M17: =VLOOKUP(B17,Sheet2!$C$2:$J$33,7,0) -> Ngân hàng Quân Đội MBBank Phòng giao dịch Chư Sê | N17: =VLOOKUP(B17,Sheet2!$C$2:$J$33,8,0) -> 0989469951
A18: 10 | B18: 2111010039 | C18: Mai Quốc Anh | D18: 21CĐAN01 | E18: 37707 | F18: Con thương binh | G18: 12110000 | H18: 1 | I18: =G18*H18 -> 12110000 | J18: Đã nộp HS online,Thiếu hồ sơ giấy | K18: =VLOOKUP(B18,Sheet2!$C$2:$J$33,4,0) -> 0 | L18: =VLOOKUP(B18,Sheet2!$C$2:$J$33,5,0) -> 075203002846 | M18: =VLOOKUP(B18,Sheet2!$C$2:$J$33,7,0) -> Ngân hàng TMCP Á Châu - PGD Long Bình Tân | N18: =VLOOKUP(B18,Sheet2!$C$2:$J$33,8,0) -> 0329483288
A19: 11 | B19: 2258130090 | C19: Nguyễn Thị Thảo Mai | D19: 22ĐHDL02 | E19: 38168 | F19: Con thương binh | G19: 16160000 | H19: 1 | I19: =G19*H19 -> 16160000 | K19: =VLOOKUP(B19,Sheet2!$C$2:$J$33,4,0) -> #N/A | L19: =VLOOKUP(B19,Sheet2!$C$2:$J$33,5,0) -> #N/A | M19: =VLOOKUP(B19,Sheet2!$C$2:$J$33,7,0) -> #N/A | N19: =VLOOKUP(B19,Sheet2!$C$2:$J$33,8,0) -> #N/A
A20: 12 | B20: 2252210082 | C20: Nguyễn Vân Nhi | D20: 22ĐHNA02 | E20: 38250 | F20: Con thương binh | G20: 14100000 | H20: 1 | I20: =G20*H20 -> 14100000 | K20: =VLOOKUP(B20,Sheet2!$C$2:$J$33,4,0) -> 2109205202330 | L20: =VLOOKUP(B20,Sheet2!$C$2:$J$33,5,0) -> 031304001937 | M20: =VLOOKUP(B20,Sheet2!$C$2:$J$33,7,0) -> Chi nhánh Huyện Kiến Thuỵ Hải Phòng | N20: =VLOOKUP(B20,Sheet2!$C$2:$J$33,8,0) -> 0967573948
A21: 13 | B21: 2254810089 | C21: Nguyễn Hoàng Trung Nguyên | D21: 22ĐHTT02 | E21: 38178 | F21: Con thương binh | G21: 14670000 | H21: 1 | I21: =G21*H21 -> 14670000 | K21: =VLOOKUP(B21,Sheet2!$C$2:$J$33,4,0) -> 100877328179 | L21: =VLOOKUP(B21,Sheet2!$C$2:$J$33,5,0) -> 079204004802 | M21: =VLOOKUP(B21,Sheet2!$C$2:$J$33,7,0) -> VietinBank chi nhánh 12 - PGD Lê Thị Riêng | N21: =VLOOKUP(B21,Sheet2!$C$2:$J$33,8,0) -> 0988073818
A22: 14 | B22: 2201150052 | C22: Bùi Thị Ngọc Yến | D22: 22CĐTM02 | E22: 38240 | F22: Con thương binh | G22: 14180000 | H22: 1 | I22: =G22*H22 -> 14180000 | K22: =VLOOKUP(B22,Sheet2!$C$2:$J$33,4,0) -> #N/A | L22: =VLOOKUP(B22,Sheet2!$C$2:$J$33,5,0) -> #N/A | M22: =VLOOKUP(B22,Sheet2!$C$2:$J$33,7,0) -> #N/A | N22: =VLOOKUP(B22,Sheet2!$C$2:$J$33,8,0) -> #N/A
A23: 15 | B23: 2254810228 | C23: Nguyễn Thị Thương | D23: 22ĐHTT05 | E23: 38304 | F23: Sinh viên khuyết tật | G23: 14670000 | H23: 1 | I23: =G23*H23 -> 14670000 | K23: =VLOOKUP(B23,Sheet2!$C$2:$J$33,4,0) -> 0355540498 | L23: =VLOOKUP(B23,Sheet2!$C$2:$J$33,5,0) -> 033304013049 | M23: =VLOOKUP(B23,Sheet2!$C$2:$J$33,7,0) -> Chi nhánh Hồ Chí Minh | N23: =VLOOKUP(B23,Sheet2!$C$2:$J$33,8,0) -> 0355540498
A24: 16 | B24: 1951010120 | C24: Ngân Thị Lệ | D24: 19ĐHQTDL | E24: 36958 | F24: Dân tộc thiểu số thuộc hộ Cận Nghèo | G24: 8485000 | H24: 1 | I24: =G24*H24 -> 8485000 | K24: =VLOOKUP(B24,Sheet2!$C$2:$J$33,4,0) -> #N/A | L24: =VLOOKUP(B24,Sheet2!$C$2:$J$33,5,0) -> #N/A | M24: =VLOOKUP(B24,Sheet2!$C$2:$J$33,7,0) -> #N/A | N24: =VLOOKUP(B24,Sheet2!$C$2:$J$33,8,0) -> #N/A
A25: 17 | B25: 1951010261 | C25: Điểu Thị Lý | D25: 19ĐHQTVT03 | E25: 36605 | F25: Dân tộc thiểu số thuộc hộ Cận Nghèo | G25: 8925000 | H25: 1 | I25: =G25*H25 -> 8925000 | J25: ngày 21/12/2021 nộp hs | K25: =VLOOKUP(B25,Sheet2!$C$2:$J$33,4,0) -> #N/A | L25: =VLOOKUP(B25,Sheet2!$C$2:$J$33,5,0) -> #N/A | M25: =VLOOKUP(B25,Sheet2!$C$2:$J$33,7,0) -> #N/A | N25: =VLOOKUP(B25,Sheet2!$C$2:$J$33,8,0) -> #N/A
A26: 18 | B26: 2051010296 | C26: Trần Thị Thúy Vy | D26: 20ĐHQT05 | E26: 37517 | F26: Dân tộc thiểu số thuộc hộ Cận Nghèo | G26: 9968000 | H26: 1 | I26: =G26*H26 -> 9968000 | K26: =VLOOKUP(B26,Sheet2!$C$2:$J$33,4,0) -> #N/A | L26: =VLOOKUP(B26,Sheet2!$C$2:$J$33,5,0) -> #N/A | M26: =VLOOKUP(B26,Sheet2!$C$2:$J$33,7,0) -> #N/A | N26: =VLOOKUP(B26,Sheet2!$C$2:$J$33,8,0) -> #N/A
A27: 19 | B27: 2051010391 | C27: Ngô Thơm | D27: 20ĐHQTDL | E27: 37271 | F27: Dân tộc thiểu số thuộc hộ Cận Nghèo | G27: 12943000 | H27: 1 | I27: =G27*H27 -> 12943000 | K27: =VLOOKUP(B27,Sheet2!$C$2:$J$33,4,0) -> 101872382516 | L27: =VLOOKUP(B27,Sheet2!$C$2:$J$33,5,0) -> 094202007792 | M27: =VLOOKUP(B27,Sheet2!$C$2:$J$33,7,0) -> 20 Đ. Cộng Hòa, Phường 4, Tân Bình, Thành phố Hồ Chí Minh, Việt Nam | N27: =VLOOKUP(B27,Sheet2!$C$2:$J$33,8,0) -> 0342821501
A28: 20 | B28: 2051010083 | C28: Vi Thị Thái | D28: 20ĐHQTVT01 | E28: 37611 | F28: Dân tộc thiểu số thuộc hộ Cận Nghèo | G28: 9520000 | H28: 1 | I28: =G28*H28 -> 9520000 | K28: =VLOOKUP(B28,Sheet2!$C$2:$J$33,4,0) -> 0 | L28: =VLOOKUP(B28,Sheet2!$C$2:$J$33,5,0) -> 241886539 | M28: =VLOOKUP(B28,Sheet2!$C$2:$J$33,7,0) -> Chi nhánh Tân Bình | N28: =VLOOKUP(B28,Sheet2!$C$2:$J$33,8,0) -> 0332930258
A29: 21 | B29: 2253410355 | C29: Ksor H' Liên | D29: 22ĐHQT04 | E29: 37673 | F29: Dân tộc thiểu số thuộc hộ Cận Nghèo | G29: 14460000 | H29: 1 | I29: =G29*H29 -> 14460000 | K29: =VLOOKUP(B29,Sheet2!$C$2:$J$33,4,0) -> 5023205197289 | L29: =VLOOKUP(B29,Sheet2!$C$2:$J$33,5,0) -> 064303001867 | M29: =VLOOKUP(B29,Sheet2!$C$2:$J$33,7,0) -> Ngân hàng nông nghiệp và phát triển nông thôn việt nam chi nhánh gia lai | N29: =VLOOKUP(B29,Sheet2!$C$2:$J$33,8,0) -> 0862492885
A30: 22 | B30: 2158420026 | C30: Lê Hoàng Mai | D30: 21ĐHKL01 | E30: 37779 | F30: Dân tộc thiểu số thuộc xã Khu vực 3 vùng dân tộc và miền núi | G30: 13160000 | H30: 0.7 | I30: =G30*H30 -> 9212000 | K30: =VLOOKUP(B30,Sheet2!$C$2:$J$33,4,0) -> 0842197297 | L30: =VLOOKUP(B30,Sheet2!$C$2:$J$33,5,0) -> 066303010188 | M30: =VLOOKUP(B30,Sheet2!$C$2:$J$33,7,0) -> MB Đăk Lăk | N30: =VLOOKUP(B30,Sheet2!$C$2:$J$33,8,0) -> 0842197297
A31: 23 | B31: 1953020039 | C31: Trần Tuấn Khôi | D31: 19ĐHĐT01 | E31: 37023 | F31: Con của người tai nạn lao động | G31: 10563000 | H31: 0.5 | I31: =G31*H31 -> 5281500 | K31: =VLOOKUP(B31,Sheet2!$C$2:$J$33,4,0) -> #N/A | L31: =VLOOKUP(B31,Sheet2!$C$2:$J$33,5,0) -> #N/A | M31: =VLOOKUP(B31,Sheet2!$C$2:$J$33,7,0) -> #N/A | N31: =VLOOKUP(B31,Sheet2!$C$2:$J$33,8,0) -> #N/A
A32: 24 | B32: 1951010046 | C32: Phạm Phương Anh | D32: 19ĐHQTC01 | E32: 37002 | F32: Con của người tai nạn lao động | G32: 9520000 | H32: 0.5 | I32: =G32*H32 -> 4760000 | J32: Đã nộp HS online,Thiếu hồ sơ giấy | K32: =VLOOKUP(B32,Sheet2!$C$2:$J$33,4,0) -> 0121000893939 | L32: =VLOOKUP(B32,Sheet2!$C$2:$J$33,5,0) -> 075301020179 | M32: =VLOOKUP(B32,Sheet2!$C$2:$J$33,7,0) -> Vietcombank chi nhánh Đồng Nai | N32: =VLOOKUP(B32,Sheet2!$C$2:$J$33,8,0) -> 0939509068
A33: 25 | B33: 2011210048 | C33: Nguyễn Xuân Lộc | D33: 20CĐKL01 | E33: 36559 | F33: Con của người tai nạn lao động | G33: 11900000 | H33: 0.5 | I33: =G33*H33 -> 5950000 | J33: Thiếu hồ sơ, không liên hệ được | K33: =VLOOKUP(B33,Sheet2!$C$2:$J$33,4,0) -> 31410003663773 | L33: =VLOOKUP(B33,Sheet2!$C$2:$J$33,5,0) -> 276098406 | M33: =VLOOKUP(B33,Sheet2!$C$2:$J$33,7,0) -> Chi nhánh Đông Sài Gòn | N33: =VLOOKUP(B33,Sheet2!$C$2:$J$33,8,0) -> 0354524732
A34: 26 | B34: 2153410218 | C34: Đỗ Khánh Linh | D34: 21ĐHQT05 | E34: 37847 | F34: Con của người tai nạn lao động | G34: 11361000 | H34: 0.5 | I34: =G34*H34 -> 5680500 | K34: =VLOOKUP(B34,Sheet2!$C$2:$J$33,4,0) -> 2005206271561 | L34: =VLOOKUP(B34,Sheet2!$C$2:$J$33,5,0) -> 048303008079 | M34: =VLOOKUP(B34,Sheet2!$C$2:$J$33,7,0) -> Cam Le - Da Nang | N34: =VLOOKUP(B34,Sheet2!$C$2:$J$33,8,0) -> 0967583234
A35: 27 | B35: 2258130089 | C35: Lê Thị Kim Nguyên | D35: 22ĐHDL02 | E35: 38347 | F35: Con của người tai nạn lao động | G35: 16160000 | H35: 0.5 | I35: =G35*H35 -> 8080000 | K35: =VLOOKUP(B35,Sheet2!$C$2:$J$33,4,0) -> #N/A | L35: =VLOOKUP(B35,Sheet2!$C$2:$J$33,5,0) -> #N/A | M35: =VLOOKUP(B35,Sheet2!$C$2:$J$33,7,0) -> #N/A | N35: =VLOOKUP(B35,Sheet2!$C$2:$J$33,8,0) -> #N/A
A36: 28 | B36: 2252210002 | C36: Nguyễn Thu Hằng | D36: 22ĐHNA01 | E36: 38224 | F36: Con của người tai nạn lao động | G36: 14100000 | H36: 0.5 | I36: =G36*H36 -> 7050000 | K36: =VLOOKUP(B36,Sheet2!$C$2:$J$33,4,0) -> 200408259999 | L36: =VLOOKUP(B36,Sheet2!$C$2:$J$33,5,0) -> 031304009707 | M36: =VLOOKUP(B36,Sheet2!$C$2:$J$33,7,0) -> MB Bank | N36: =VLOOKUP(B36,Sheet2!$C$2:$J$33,8,0) -> 0904275317
C37: Tổng cộng: | I37: =SUM(I9:I36) -> 288128700
C38: Số tiền bằng chữ: Hai trăm tám mươi tám triệu một trăm hai mươi tám ngàn bảy trăm đồng./.
B40: TRƯỞNG PHÒNG | G40: GIÁM ĐỐC
B41: PHÒNG TS&CTSV
B47: Nguyễn Minh Tùng | H47: Nguyễn Thị Hải Hằng
